BEGIN:VCALENDAR
VERSION:2.0
PRODID:-//JB Elmendorf Richardson - ECPv6.15.20//NONSGML v1.0//EN
CALSCALE:GREGORIAN
METHOD:PUBLISH
X-WR-CALNAME:JB Elmendorf Richardson
X-ORIGINAL-URL:https://jberlife.com
X-WR-CALDESC:Events for JB Elmendorf Richardson
REFRESH-INTERVAL;VALUE=DURATION:PT1H
X-Robots-Tag:noindex
X-PUBLISHED-TTL:PT1H
BEGIN:VTIMEZONE
TZID:America/Anchorage
BEGIN:DAYLIGHT
TZOFFSETFROM:-0900
TZOFFSETTO:-0800
TZNAME:AKDT
DTSTART:20250309T110000
END:DAYLIGHT
BEGIN:STANDARD
TZOFFSETFROM:-0800
TZOFFSETTO:-0900
TZNAME:AKST
DTSTART:20251102T100000
END:STANDARD
BEGIN:DAYLIGHT
TZOFFSETFROM:-0900
TZOFFSETTO:-0800
TZNAME:AKDT
DTSTART:20260308T110000
END:DAYLIGHT
BEGIN:STANDARD
TZOFFSETFROM:-0800
TZOFFSETTO:-0900
TZNAME:AKST
DTSTART:20261101T100000
END:STANDARD
BEGIN:DAYLIGHT
TZOFFSETFROM:-0900
TZOFFSETTO:-0800
TZNAME:AKDT
DTSTART:20270314T110000
END:DAYLIGHT
BEGIN:STANDARD
TZOFFSETFROM:-0800
TZOFFSETTO:-0900
TZNAME:AKST
DTSTART:20271107T100000
END:STANDARD
END:VTIMEZONE
BEGIN:VEVENT
DTSTART;TZID=America/Anchorage:20260424T180000
DTEND;TZID=America/Anchorage:20260425T060000
DTSTAMP:20260425T024934
CREATED:20260407T233219Z
LAST-MODIFIED:20260407T233219Z
UID:10001483-1777053600-1777096800@jberlife.com
SUMMARY:Operation Megaphone: Teen Lock-In
DESCRIPTION:
URL:https://jberlife.com/event/operation-megaphone-teen-lock-in/
LOCATION:Kennecott Youth Center\, Bldg. 6104 Carswell Ave\, Joint Base Elmendorf-Richardson\, Alaska\, 99506\, United States
CATEGORIES:Family,Hot Events,Kennecott Youth & Teen,Rivers Youth & Teen
ATTACH;FMTTYPE=image/png:https://jberlife.com/wp-content/uploads/2026/04/AprJL2026_OperationMegaphone_socialmedia-2.png
END:VEVENT
BEGIN:VEVENT
DTSTART;TZID=America/Anchorage:20260425T100000
DTEND;TZID=America/Anchorage:20260425T140000
DTSTAMP:20260425T024934
CREATED:20260325T172358Z
LAST-MODIFIED:20260325T172501Z
UID:10001313-1777111200-1777125600@jberlife.com
SUMMARY:Highland Cow Alcohol Ink Painting Class
DESCRIPTION:
URL:https://jberlife.com/event/highland-cow-alcohol-ink-painting-class/2026-04-25/
LOCATION:Arts & Crafts Center\, Bldg. 755 D st\, Joint Base Elmendorf-Richardson\, Joint Base Elmendorf-Richardson\, AK\, 99505\, United States
CATEGORIES:Arts & Crafts,Hot Events
ATTACH;FMTTYPE=image/png:https://jberlife.com/wp-content/uploads/2026/03/AprJL2026_HighlandCow_socialmedia-1-scaled.png
END:VEVENT
BEGIN:VEVENT
DTSTART;TZID=America/Anchorage:20260425T180000
DTEND;TZID=America/Anchorage:20260425T210000
DTSTAMP:20260425T024934
CREATED:20260325T174033Z
LAST-MODIFIED:20260325T191454Z
UID:10001317-1777140000-1777150800@jberlife.com
SUMMARY:Spring Ball 2026
DESCRIPTION:
URL:https://jberlife.com/event/spring-ball-2026/
LOCATION:Arctic Warrior Events Center\, Bldg. 9387 Kuter Ave\, Joint Base Elmendorf-Richardson\, AR\, 99505\, United States
CATEGORIES:Arctic Warrior Events Center,Explore & Enjoy,Hot Events
ATTACH;FMTTYPE=image/png:https://jberlife.com/wp-content/uploads/2026/03/springball-FB-scaled.png
END:VEVENT
END:VCALENDAR